BEGIN:VCALENDAR
VERSION:2.0
PRODID:-//https://www.hippodrome-saint-galmier.fr///NONSGML kigkonsult.se iCalcreator 2.10.15//
METHOD:PUBLISH
BEGIN:VEVENT
UID:20260420T110535CEST-7175UJ9hND@https://www.hippodrome-saint-galmier.fr/
DTSTAMP:20260420T090535Z
DESCRIPTION: https://hippodrome-saint-galmier.fr/component/rseventspro/even
 ement/840-reunion-hippique?Itemid=101
DTSTART:20260318T150000Z
DTEND:20260318T190000Z
LOCATION:Hippodrome Jean Desjoyaux (52 Route de Cuzieu\, 42330 Saint-Galmie
 r\, France)
SUMMARY:REUNION HIPPIQUE
URL:https://hippodrome-saint-galmier.fr/component/rseventspro/evenement/840
 -reunion-hippique?Itemid=101
END:VEVENT
END:VCALENDAR
